BEGIN:VCALENDAR
VERSION:2.0
PRODID:-//Partners for Automated Vehicle Education (PAVE) - ECPv6.15.20//NONSGML v1.0//EN
CALSCALE:GREGORIAN
METHOD:PUBLISH
X-WR-CALNAME:Partners for Automated Vehicle Education (PAVE)
X-ORIGINAL-URL:https://pavecampaign.org
X-WR-CALDESC:Events for Partners for Automated Vehicle Education (PAVE)
REFRESH-INTERVAL;VALUE=DURATION:PT1H
X-Robots-Tag:noindex
X-PUBLISHED-TTL:PT1H
BEGIN:VTIMEZONE
TZID:America/New_York
BEGIN:DAYLIGHT
TZOFFSETFROM:-0500
TZOFFSETTO:-0400
TZNAME:EDT
DTSTART:20240310T070000
END:DAYLIGHT
BEGIN:STANDARD
TZOFFSETFROM:-0400
TZOFFSETTO:-0500
TZNAME:EST
DTSTART:20241103T060000
END:STANDARD
BEGIN:DAYLIGHT
TZOFFSETFROM:-0500
TZOFFSETTO:-0400
TZNAME:EDT
DTSTART:20250309T070000
END:DAYLIGHT
BEGIN:STANDARD
TZOFFSETFROM:-0400
TZOFFSETTO:-0500
TZNAME:EST
DTSTART:20251102T060000
END:STANDARD
BEGIN:DAYLIGHT
TZOFFSETFROM:-0500
TZOFFSETTO:-0400
TZNAME:EDT
DTSTART:20260308T070000
END:DAYLIGHT
BEGIN:STANDARD
TZOFFSETFROM:-0400
TZOFFSETTO:-0500
TZNAME:EST
DTSTART:20261101T060000
END:STANDARD
END:VTIMEZONE
BEGIN:VEVENT
DTSTART;VALUE=DATE:20250327
DTEND;VALUE=DATE:20250328
DTSTAMP:20260424T010436
CREATED:20250205T172738Z
LAST-MODIFIED:20250210T193650Z
UID:19349-1743033600-1743119999@pavecampaign.org
SUMMARY:2025 National Safety Summit of US DOT University Transportation Centers
DESCRIPTION:PAVE’s Tara Andringa will speak in a panel at the 2025 National Safety Summit of US DOT University Transportation Centers taking place on March 27th. \nAbout the Event:  \nThe summit provides a unique opportunity for researchers\, government\, and industry representatives from across the country to engage in critical discussions and participate in a research showcase where ideas will be shared and new collaborative efforts to transfer research to deployment are identified. This year’s summit will be centered around advancing U.S. leadership in transportation safety and innovation. Through the lens of safe autonomous driving and connected infrastructure\, it will address themes related to technology\, society\, policy and market economics.
URL:https://pavecampaign.org/event/2025-national-safety-summit-us-dot-university-transportation-centers/
LOCATION:Washington D.C.
CATEGORIES:Conference,Panel,Speaking Engagement
ATTACH;FMTTYPE=image/png:https://pavecampaign.org/wp-content/uploads/2025/02/Event-Posts-LI-X-4.png
END:VEVENT
END:VCALENDAR