BEGIN:VCALENDAR
VERSION:2.0
PRODID:-//Partners for Automated Vehicle Education (PAVE) - ECPv6.15.20//NONSGML v1.0//EN
CALSCALE:GREGORIAN
METHOD:PUBLISH
X-WR-CALNAME:Partners for Automated Vehicle Education (PAVE)
X-ORIGINAL-URL:https://pavecampaign.org
X-WR-CALDESC:Events for Partners for Automated Vehicle Education (PAVE)
REFRESH-INTERVAL;VALUE=DURATION:PT1H
X-Robots-Tag:noindex
X-PUBLISHED-TTL:PT1H
BEGIN:VTIMEZONE
TZID:America/New_York
BEGIN:DAYLIGHT
TZOFFSETFROM:-0500
TZOFFSETTO:-0400
TZNAME:EDT
DTSTART:20240310T070000
END:DAYLIGHT
BEGIN:STANDARD
TZOFFSETFROM:-0400
TZOFFSETTO:-0500
TZNAME:EST
DTSTART:20241103T060000
END:STANDARD
BEGIN:DAYLIGHT
TZOFFSETFROM:-0500
TZOFFSETTO:-0400
TZNAME:EDT
DTSTART:20250309T070000
END:DAYLIGHT
BEGIN:STANDARD
TZOFFSETFROM:-0400
TZOFFSETTO:-0500
TZNAME:EST
DTSTART:20251102T060000
END:STANDARD
BEGIN:DAYLIGHT
TZOFFSETFROM:-0500
TZOFFSETTO:-0400
TZNAME:EDT
DTSTART:20260308T070000
END:DAYLIGHT
BEGIN:STANDARD
TZOFFSETFROM:-0400
TZOFFSETTO:-0500
TZNAME:EST
DTSTART:20261101T060000
END:STANDARD
END:VTIMEZONE
BEGIN:VEVENT
DTSTART;VALUE=DATE:20250417
DTEND;VALUE=DATE:20250418
DTSTAMP:20260424T010306
CREATED:20250324T210254Z
LAST-MODIFIED:20250324T210254Z
UID:19881-1744848000-1744934399@pavecampaign.org
SUMMARY:World Traffic Safety Symposium
DESCRIPTION:PAVE will be speaking at the 2025 World Traffic Safety Symposium this April in Manhattan\, NY. \nAbout the Event: \nBringing traffic safety to the forefront for 35 years\, the World Traffic Safety Symposium brings together safety experts\, policymakers\, law enforcement agencies\, and the auto industry to help address some of the critical issues facing road users. \nThe 2025 World Traffic Safety Symposium takes place on Thursday\, April 17\, 2025 from 9:00 am – 2:00 pm at the Javits Center – New York City.
URL:https://pavecampaign.org/event/2025-world-traffic-safety-symposium/
CATEGORIES:Conference,Panel,Speaking Engagement
ATTACH;FMTTYPE=image/png:https://pavecampaign.org/wp-content/uploads/2025/03/Event-Posts-LI-X-8.png
END:VEVENT
END:VCALENDAR