BEGIN:VCALENDAR
VERSION:2.0
PRODID:-//Partners for Automated Vehicle Education (PAVE) - ECPv6.15.20//NONSGML v1.0//EN
CALSCALE:GREGORIAN
METHOD:PUBLISH
X-WR-CALNAME:Partners for Automated Vehicle Education (PAVE)
X-ORIGINAL-URL:https://pavecampaign.org
X-WR-CALDESC:Events for Partners for Automated Vehicle Education (PAVE)
REFRESH-INTERVAL;VALUE=DURATION:PT1H
X-Robots-Tag:noindex
X-PUBLISHED-TTL:PT1H
BEGIN:VTIMEZONE
TZID:America/New_York
BEGIN:DAYLIGHT
TZOFFSETFROM:-0500
TZOFFSETTO:-0400
TZNAME:EDT
DTSTART:20240310T070000
END:DAYLIGHT
BEGIN:STANDARD
TZOFFSETFROM:-0400
TZOFFSETTO:-0500
TZNAME:EST
DTSTART:20241103T060000
END:STANDARD
BEGIN:DAYLIGHT
TZOFFSETFROM:-0500
TZOFFSETTO:-0400
TZNAME:EDT
DTSTART:20250309T070000
END:DAYLIGHT
BEGIN:STANDARD
TZOFFSETFROM:-0400
TZOFFSETTO:-0500
TZNAME:EST
DTSTART:20251102T060000
END:STANDARD
BEGIN:DAYLIGHT
TZOFFSETFROM:-0500
TZOFFSETTO:-0400
TZNAME:EDT
DTSTART:20260308T070000
END:DAYLIGHT
BEGIN:STANDARD
TZOFFSETFROM:-0400
TZOFFSETTO:-0500
TZNAME:EST
DTSTART:20261101T060000
END:STANDARD
END:VTIMEZONE
BEGIN:VEVENT
DTSTART;VALUE=DATE:20250312
DTEND;VALUE=DATE:20250314
DTSTAMP:20260424T010328
CREATED:20250228T180548Z
LAST-MODIFIED:20250228T180548Z
UID:19655-1741737600-1741910399@pavecampaign.org
SUMMARY:AAMVA 2025 Workshop and Law Institute
DESCRIPTION:PAVE will be speaking at the AAMVA 2025 Workshop and Law Institute on March 13th in Salt Lake City\, Utah. \nAbout the Event: \nThis unique event provides AAMVA members with an intimate and collaborative environment to network and learn from fellow motor vehicle and law enforcement colleagues across North America. Attendees will have the opportunity to hear from and meet directly with jurisdictions\, as well as industry organizations that provide the products and services you need. The two-day schedule is packed with sessions covering hot topics in the motor vehicle and law enforcement community including: cognitive impairment\, customer service\, data integrity\, insurance verification\, and much more.
URL:https://pavecampaign.org/event/aamva-2025-workshop-and-law-institute/
LOCATION:Salt Lake City\, UT
CATEGORIES:Conference,Panel,Speaking Engagement
ATTACH;FMTTYPE=image/png:https://pavecampaign.org/wp-content/uploads/2025/02/Website-Graphics-169-5.png
END:VEVENT
END:VCALENDAR