BEGIN:VCALENDAR
VERSION:2.0
PRODID:-//Partners for Automated Vehicle Education (PAVE) - ECPv6.15.20//NONSGML v1.0//EN
CALSCALE:GREGORIAN
METHOD:PUBLISH
X-WR-CALNAME:Partners for Automated Vehicle Education (PAVE)
X-ORIGINAL-URL:https://pavecampaign.org
X-WR-CALDESC:Events for Partners for Automated Vehicle Education (PAVE)
REFRESH-INTERVAL;VALUE=DURATION:PT1H
X-Robots-Tag:noindex
X-PUBLISHED-TTL:PT1H
BEGIN:VTIMEZONE
TZID:Europe/Istanbul
BEGIN:STANDARD
TZOFFSETFROM:+0300
TZOFFSETTO:+0300
TZNAME:+03
DTSTART:20240101T000000
END:STANDARD
END:VTIMEZONE
BEGIN:VEVENT
DTSTART;TZID=Europe/Istanbul:20250123T140000
DTEND;TZID=Europe/Istanbul:20250123T150000
DTSTAMP:20260424T022624
CREATED:20250115T092832Z
LAST-MODIFIED:20250129T140010Z
UID:19006-1737640800-1737644400@pavecampaign.org
SUMMARY:Virtual Panel: AI-Based Verification and Validation of Autonomous Driving Features
DESCRIPTION:As autonomous driving technology continues to evolve\, ensuring the safety and reliability of these systems has become more crucial. How can AI-driven approaches to verification and validation accelerate the development of safe\, autonomous vehicles? \nJoin us on Thursday 23rd January at 14:00 CET for an insightful discussion on the techniques in AI-based verification and validation\, and the future of autonomous driving. Guido Di Pasquale\, Managing Director at PAVE Europe\, will moderate a panel with Mihai Nica\, Global Head of ADAS\, Automated Driving & Connectivity at AVL\, and Daniel Watzenig\, Professor of Autonomous Driving at Tu Graz and CTO and Head of Electronics Department at Virtual Vehicle Research. \nThe conversation will explore the current challenges in verifying and validating autonomous driving systems\, the role of artificial intelligence in enhancing safety-critical aspects of these features\, real-world examples\, and case studies of AI-driven verification processes\, and more. \nDo not miss this chance to hear from industry experts and discover key technological advancements that are shaping the future of autonomous driving. \nRegister now
URL:https://pavecampaign.org/event/ai-based-verification-and-validation-of-autonomous-driving-features/
LOCATION:Virtual Panel
CATEGORIES:Panel,Speaking Engagement,Virtual Panel
ATTACH;FMTTYPE=image/png:https://pavecampaign.org/wp-content/uploads/2025/01/Europe-22-event-reg.png
END:VEVENT
END:VCALENDAR