BEGIN:VCALENDAR
VERSION:2.0
PRODID:-//Partners for Automated Vehicle Education (PAVE) - ECPv6.15.20//NONSGML v1.0//EN
CALSCALE:GREGORIAN
METHOD:PUBLISH
X-WR-CALNAME:Partners for Automated Vehicle Education (PAVE)
X-ORIGINAL-URL:https://pavecampaign.org
X-WR-CALDESC:Events for Partners for Automated Vehicle Education (PAVE)
REFRESH-INTERVAL;VALUE=DURATION:PT1H
X-Robots-Tag:noindex
X-PUBLISHED-TTL:PT1H
BEGIN:VTIMEZONE
TZID:Europe/Istanbul
BEGIN:STANDARD
TZOFFSETFROM:+0300
TZOFFSETTO:+0300
TZNAME:+03
DTSTART:20240101T000000
END:STANDARD
END:VTIMEZONE
BEGIN:VEVENT
DTSTART;VALUE=DATE:20250429
DTEND;VALUE=DATE:20250501
DTSTAMP:20260424T022741
CREATED:20250114T142910Z
LAST-MODIFIED:20250314T104620Z
UID:19554-1745884800-1746057599@pavecampaign.org
SUMMARY:Automotive Europe 2025
DESCRIPTION:Automotive Europe 2025 is Reuters Events’ European flagship event that unites CEOs and board members from leading OEMs to take to the stage where they will set the European automotive agenda for years to come. \nReaching a European audience\, this event will shape the future strategies across business-critical topics such as: \n\nSoftware Defined Vehicles (SDVs): Breakdown the shift from hardware-centric to software-driven vehicles and examine how automakers are capitalizing on software to enhance vehicle functionality\, create seamless user experiences\, and deliver ongoing updates.\nAftermarket Business Models: New business models are reshaping the aftermarket sector in the age of connected and electric vehicles. Explore strategies to capture revenue from software updates\, remote diagnostics\, and personalized services.\nSupply Chains: The need for resilience in automotive supply chains amidst global uncertainties is a must. Gain insights into creating a robust\, digital\, and agile supply chain.\nManufacturing: Automotive manufacturing\, from AI-driven automation to advanced robotics and sustainable production practices. Evaluate how these advancements are reshaping efficiency\, product quality\, and cost-effectiveness in a rapidly evolving production landscape.\nGlobal Competition: China’s entry into Europe’s automotive market is intensifying competition. To stay competitive\, OEMs must embrace rapid innovation\, navigate evolving regulations\, and meet shifting consumer demands.\n\n  \nTake the opportunity to network and share solutions with 350+ thought leaders and innovators across the globe including C-Suite leaders from Polestar\, NIO\, VW\, Opel\, Hyundai\, and many more across two days to plan this decade of transformation. \n  \nPAVE Europe is a media partner for Automotive Europe.
URL:https://pavecampaign.org/event/automotive-europe-2025/
LOCATION:Germany
CATEGORIES:Conference,PAVE Europe Events,Speaking Engagement
ATTACH;FMTTYPE=image/png:https://pavecampaign.org/wp-content/uploads/2025/02/Reuters.png
END:VEVENT
END:VCALENDAR