BEGIN:VCALENDAR
VERSION:2.0
PRODID:-//Partners for Automated Vehicle Education (PAVE) - ECPv6.15.20//NONSGML v1.0//EN
CALSCALE:GREGORIAN
METHOD:PUBLISH
X-WR-CALNAME:Partners for Automated Vehicle Education (PAVE)
X-ORIGINAL-URL:https://pavecampaign.org
X-WR-CALDESC:Events for Partners for Automated Vehicle Education (PAVE)
REFRESH-INTERVAL;VALUE=DURATION:PT1H
X-Robots-Tag:noindex
X-PUBLISHED-TTL:PT1H
BEGIN:VTIMEZONE
TZID:America/New_York
BEGIN:DAYLIGHT
TZOFFSETFROM:-0500
TZOFFSETTO:-0400
TZNAME:EDT
DTSTART:20240310T070000
END:DAYLIGHT
BEGIN:STANDARD
TZOFFSETFROM:-0400
TZOFFSETTO:-0500
TZNAME:EST
DTSTART:20241103T060000
END:STANDARD
BEGIN:DAYLIGHT
TZOFFSETFROM:-0500
TZOFFSETTO:-0400
TZNAME:EDT
DTSTART:20250309T070000
END:DAYLIGHT
BEGIN:STANDARD
TZOFFSETFROM:-0400
TZOFFSETTO:-0500
TZNAME:EST
DTSTART:20251102T060000
END:STANDARD
BEGIN:DAYLIGHT
TZOFFSETFROM:-0500
TZOFFSETTO:-0400
TZNAME:EDT
DTSTART:20260308T070000
END:DAYLIGHT
BEGIN:STANDARD
TZOFFSETFROM:-0400
TZOFFSETTO:-0500
TZNAME:EST
DTSTART:20261101T060000
END:STANDARD
END:VTIMEZONE
BEGIN:VEVENT
DTSTART;VALUE=DATE:20250514
DTEND;VALUE=DATE:20250516
DTSTAMP:20260423T232059
CREATED:20250127T205016Z
LAST-MODIFIED:20250328T192029Z
UID:19174-1747180800-1747353599@pavecampaign.org
SUMMARY:AV Safety InfoShare Workshop
DESCRIPTION:PAVE will be co-hosting its first AV Safety InfoShare Workshop of 2025 alongside Mitre on May 14-15\, 2025. \nModeled after the longtime Aviation InfoShare sessions\, this two-day workshop facilitates candid and productive conversation about safety challenges and solutions. \nThis event is intended for professionals working in SMS or safety systems at companies developing AVs or related technologies. If you’re interested in attending this event\, click here to register.
URL:https://pavecampaign.org/event/av-safety-infoshare-workshop-may-2025/
LOCATION:McLean\, VA
CATEGORIES:PAVE Hosted Event
ATTACH;FMTTYPE=image/png:https://pavecampaign.org/wp-content/uploads/2025/01/AV-InfoShare-2024-Graphic-3.png
END:VEVENT
END:VCALENDAR