BEGIN:VCALENDAR
VERSION:2.0
PRODID:-//Partners for Automated Vehicle Education (PAVE) - ECPv6.15.20//NONSGML v1.0//EN
CALSCALE:GREGORIAN
METHOD:PUBLISH
X-WR-CALNAME:Partners for Automated Vehicle Education (PAVE)
X-ORIGINAL-URL:https://pavecampaign.org
X-WR-CALDESC:Events for Partners for Automated Vehicle Education (PAVE)
REFRESH-INTERVAL;VALUE=DURATION:PT1H
X-Robots-Tag:noindex
X-PUBLISHED-TTL:PT1H
BEGIN:VTIMEZONE
TZID:Europe/Istanbul
BEGIN:STANDARD
TZOFFSETFROM:+0300
TZOFFSETTO:+0300
TZNAME:+03
DTSTART:20240101T000000
END:STANDARD
END:VTIMEZONE
BEGIN:VEVENT
DTSTART;VALUE=DATE:20250227
DTEND;VALUE=DATE:20250301
DTSTAMP:20260424T022619
CREATED:20250128T144404Z
LAST-MODIFIED:20250313T123158Z
UID:19233-1740614400-1740787199@pavecampaign.org
SUMMARY:Best Stay Event
DESCRIPTION:Best Stay is the go-to event for tourism and hospitality professionals eager to enhance service quality\, profits\, and partnerships. \nJoin Nicola Hare\, Project and Engagement Manager at PAVE Europe at a panel discussion on “From AI to AV: Future Hotel Tech and the Smart Stuff – What’s Really Worth It?”. \nThe conversation will dive into the latest trends in tourism technology\, exploring what’s truly driving efficiency and profitability for hotels\, tour operators\, airlines\, and destinations. The panel will learn about the integration of autonomous vehicles in guest experiences\, including seamless\, contactless transport and delivery services. The session will also offer a forward-looking perspective on what’s next for tourism and hospitality tech in the coming five years.
URL:https://pavecampaign.org/event/best-stay-event/
LOCATION:Croatia
CATEGORIES:Conference,PAVE Europe Past Events,Speaking Engagement
ATTACH;FMTTYPE=image/png:https://pavecampaign.org/wp-content/uploads/2025/01/BestStay.png
END:VEVENT
END:VCALENDAR