BEGIN:VCALENDAR
VERSION:2.0
PRODID:-//Partners for Automated Vehicle Education (PAVE) - ECPv6.15.20//NONSGML v1.0//EN
CALSCALE:GREGORIAN
METHOD:PUBLISH
X-WR-CALNAME:Partners for Automated Vehicle Education (PAVE)
X-ORIGINAL-URL:https://pavecampaign.org
X-WR-CALDESC:Events for Partners for Automated Vehicle Education (PAVE)
REFRESH-INTERVAL;VALUE=DURATION:PT1H
X-Robots-Tag:noindex
X-PUBLISHED-TTL:PT1H
BEGIN:VTIMEZONE
TZID:America/New_York
BEGIN:DAYLIGHT
TZOFFSETFROM:-0500
TZOFFSETTO:-0400
TZNAME:EDT
DTSTART:20230312T070000
END:DAYLIGHT
BEGIN:STANDARD
TZOFFSETFROM:-0400
TZOFFSETTO:-0500
TZNAME:EST
DTSTART:20231105T060000
END:STANDARD
BEGIN:DAYLIGHT
TZOFFSETFROM:-0500
TZOFFSETTO:-0400
TZNAME:EDT
DTSTART:20240310T070000
END:DAYLIGHT
BEGIN:STANDARD
TZOFFSETFROM:-0400
TZOFFSETTO:-0500
TZNAME:EST
DTSTART:20241103T060000
END:STANDARD
BEGIN:DAYLIGHT
TZOFFSETFROM:-0500
TZOFFSETTO:-0400
TZNAME:EDT
DTSTART:20250309T070000
END:DAYLIGHT
BEGIN:STANDARD
TZOFFSETFROM:-0400
TZOFFSETTO:-0500
TZNAME:EST
DTSTART:20251102T060000
END:STANDARD
END:VTIMEZONE
BEGIN:VEVENT
DTSTART;TZID=America/New_York:20241212T140000
DTEND;TZID=America/New_York:20241212T143000
DTSTAMP:20260424T023544
CREATED:20241119T153004Z
LAST-MODIFIED:20241121T015836Z
UID:18190-1734012000-1734013800@pavecampaign.org
SUMMARY:From Aviation to Autonomous Vehicles: Leveraging the InfoShare Model for AV Safety
DESCRIPTION:For many years\, the aviation industry has held an annual InfoShare event\, where stakeholders share challenges\, ideas\, and best practices for cross-industry implementation. The forum has been instrumental in fostering collaboration and enhancing airline safety. \nBased on the success of the aviation InfoShare\, the autonomous vehicle industry convened the first-ever AV Safety Infoshare session this spring\, and a second event is planned for December 2024. \nFollowing the December AV Safety InfoShare\, we have asked three safety experts who participated in the session to join us for a virtual panel. They will share some high-level takeaways\, discuss the hurdles that remain\, and share best practices that are applicable to the AV ecosystem. Panelists include Kevin Reilly of Cruise\, Steven Siko of Torc Robotics\, and Tanya Hood of Forterra. \nClick here to register!
URL:https://pavecampaign.org/event/from-aviation-to-autonomous-vehicles-leveraging-the-infoshare-model-for-av-safety/
LOCATION:Virtual Panel
CATEGORIES:Virtual Panel
ATTACH;FMTTYPE=image/png:https://pavecampaign.org/wp-content/uploads/2024/11/Panel-123-Main-Graphic-Template.png
END:VEVENT
END:VCALENDAR