BEGIN:VCALENDAR
VERSION:2.0
PRODID:-//Partners for Automated Vehicle Education (PAVE) - ECPv6.15.20//NONSGML v1.0//EN
CALSCALE:GREGORIAN
METHOD:PUBLISH
X-WR-CALNAME:Partners for Automated Vehicle Education (PAVE)
X-ORIGINAL-URL:https://pavecampaign.org
X-WR-CALDESC:Events for Partners for Automated Vehicle Education (PAVE)
REFRESH-INTERVAL;VALUE=DURATION:PT1H
X-Robots-Tag:noindex
X-PUBLISHED-TTL:PT1H
BEGIN:VTIMEZONE
TZID:America/New_York
BEGIN:DAYLIGHT
TZOFFSETFROM:-0500
TZOFFSETTO:-0400
TZNAME:EDT
DTSTART:20240310T070000
END:DAYLIGHT
BEGIN:STANDARD
TZOFFSETFROM:-0400
TZOFFSETTO:-0500
TZNAME:EST
DTSTART:20241103T060000
END:STANDARD
BEGIN:DAYLIGHT
TZOFFSETFROM:-0500
TZOFFSETTO:-0400
TZNAME:EDT
DTSTART:20250309T070000
END:DAYLIGHT
BEGIN:STANDARD
TZOFFSETFROM:-0400
TZOFFSETTO:-0500
TZNAME:EST
DTSTART:20251102T060000
END:STANDARD
BEGIN:DAYLIGHT
TZOFFSETFROM:-0500
TZOFFSETTO:-0400
TZNAME:EDT
DTSTART:20260308T070000
END:DAYLIGHT
BEGIN:STANDARD
TZOFFSETFROM:-0400
TZOFFSETTO:-0500
TZNAME:EST
DTSTART:20261101T060000
END:STANDARD
END:VTIMEZONE
BEGIN:VEVENT
DTSTART;VALUE=DATE:20250430
DTEND;VALUE=DATE:20250501
DTSTAMP:20260424T010327
CREATED:20250127T220350Z
LAST-MODIFIED:20250212T215352Z
UID:19178-1745971200-1746057599@pavecampaign.org
SUMMARY:Louisiana CAV Innovation Day
DESCRIPTION:In coordination with its CAV Working Group\, DOTD is hosting the first-ever CAV Innovation Day on April 30\, 2025.  The one-day event will feature panel programming\, CAV technology displays and demonstrations\, presentations\, networking opportunities\, and more. \nTo learn more and register\, or to inquire about exhibiting\, visit https://pavecampaign.org/events/la-cav-day/ \n 
URL:https://pavecampaign.org/event/louisiana-cav-innovation-day/
LOCATION:DOTD Headquarters\, 1201 Capitol Access Road\, Baton Rouge\, LA\, 70802\, United States
CATEGORIES:PAVE Hosted Event
ATTACH;FMTTYPE=image/png:https://pavecampaign.org/wp-content/uploads/2025/01/Event-Posts-LI-X.png
END:VEVENT
END:VCALENDAR