BEGIN:VCALENDAR
VERSION:2.0
PRODID:-//Partners for Automated Vehicle Education (PAVE) - ECPv6.15.20//NONSGML v1.0//EN
CALSCALE:GREGORIAN
METHOD:PUBLISH
X-WR-CALNAME:Partners for Automated Vehicle Education (PAVE)
X-ORIGINAL-URL:https://pavecampaign.org
X-WR-CALDESC:Events for Partners for Automated Vehicle Education (PAVE)
REFRESH-INTERVAL;VALUE=DURATION:PT1H
X-Robots-Tag:noindex
X-PUBLISHED-TTL:PT1H
BEGIN:VTIMEZONE
TZID:Europe/Istanbul
BEGIN:STANDARD
TZOFFSETFROM:+0300
TZOFFSETTO:+0300
TZNAME:+03
DTSTART:20240101T000000
END:STANDARD
END:VTIMEZONE
BEGIN:VEVENT
DTSTART;TZID=Europe/Istanbul:20250313T153000
DTEND;TZID=Europe/Istanbul:20250313T170000
DTSTAMP:20260424T010142
CREATED:20250126T132444Z
LAST-MODIFIED:20250217T134524Z
UID:19563-1741879800-1741885200@pavecampaign.org
SUMMARY:Mobility Talks - Autonomous mobility: what can we expect in 2025?
DESCRIPTION:2025 is expected to be a pivotal year for the commercialisation of autonomous technologies\, evolving from pilots towards increased availability for a broad range of applications. From shuttles to buses\, trains\, trucks and cars\, it is relevant to dive deeper into the different use cases enabled by autonomous mobility. \nIn this Mobility Talk\, our speakers will reflect on the different levels of automation and their deployment maturity\, within and outside of Europe. Key questions include the journey from pilot to commercialisation of autonomous mobility technologies\, as well as the current bottlenecks that need addressing to maximise the benefits of automation for people and society. \nPanellists Include: \n\nKarl Obemair\, Chairman at PAVE Europe\n Olav Madland\, CEO at Applied Autonomy \nJohn McSweeney\, Project Coordinator at UITP\n\n  \nRegister now
URL:https://pavecampaign.org/event/mobility-talks-autonomous-mobility-what-can-we-expect-in-2025/
LOCATION:Virtual Panel
CATEGORIES:Panel,PAVE Europe Events,Speaking Engagement,Virtual Panel
ATTACH;FMTTYPE=image/png:https://pavecampaign.org/wp-content/uploads/2025/02/MTP-edited.png
END:VEVENT
END:VCALENDAR