BEGIN:VCALENDAR
VERSION:2.0
PRODID:-//Partners for Automated Vehicle Education (PAVE) - ECPv6.15.20//NONSGML v1.0//EN
CALSCALE:GREGORIAN
METHOD:PUBLISH
X-WR-CALNAME:Partners for Automated Vehicle Education (PAVE)
X-ORIGINAL-URL:https://pavecampaign.org
X-WR-CALDESC:Events for Partners for Automated Vehicle Education (PAVE)
REFRESH-INTERVAL;VALUE=DURATION:PT1H
X-Robots-Tag:noindex
X-PUBLISHED-TTL:PT1H
BEGIN:VTIMEZONE
TZID:America/New_York
BEGIN:DAYLIGHT
TZOFFSETFROM:-0500
TZOFFSETTO:-0400
TZNAME:EDT
DTSTART:20230312T070000
END:DAYLIGHT
BEGIN:STANDARD
TZOFFSETFROM:-0400
TZOFFSETTO:-0500
TZNAME:EST
DTSTART:20231105T060000
END:STANDARD
BEGIN:DAYLIGHT
TZOFFSETFROM:-0500
TZOFFSETTO:-0400
TZNAME:EDT
DTSTART:20240310T070000
END:DAYLIGHT
BEGIN:STANDARD
TZOFFSETFROM:-0400
TZOFFSETTO:-0500
TZNAME:EST
DTSTART:20241103T060000
END:STANDARD
BEGIN:DAYLIGHT
TZOFFSETFROM:-0500
TZOFFSETTO:-0400
TZNAME:EDT
DTSTART:20250309T070000
END:DAYLIGHT
BEGIN:STANDARD
TZOFFSETFROM:-0400
TZOFFSETTO:-0500
TZNAME:EST
DTSTART:20251102T060000
END:STANDARD
END:VTIMEZONE
BEGIN:VEVENT
DTSTART;TZID=America/New_York:20240911T140000
DTEND;TZID=America/New_York:20240911T143000
DTSTAMP:20260424T053254
CREATED:20240815T165731Z
LAST-MODIFIED:20240815T171026Z
UID:15031-1726063200-1726065000@pavecampaign.org
SUMMARY:PAVE Virtual Panel - "Now Hiring: Workforce Development in the Autonomous Vehicle Industry"
DESCRIPTION:As the autonomous vehicle (AV) industry advances and self-driving cars become a part of our reality\, questions arise regarding what this will mean for jobs and the economy. A new coalition — USAVjobs.com – seeks to compile resources\, job training programs\, government initiatives\, etc.\, to answer questions about AVs and the workforce. \nJoin us on Wednesday\, September 11th\, for a virtual panel featuring experts May Mobility\, Aurora\, and DriveOhio\, as we examine the state of workforce development in AVs. Panelists will discuss existing job creation programs\, upskilling and reskilling initiatives\, and future opportunities for economic growth – across skill levels\, areas of expertise\, and geographic locations. Speakers include Nicole DuPuis\, Policy and Advocacy Lead at May Mobility; Rich Granger\, Managing Director of Workforce and Economic Development at DriveOhio; and Matt Blackburn\, Senior Manager of Government Relations at Aurora. Register here!
URL:https://pavecampaign.org/event/pave-virtual-panel-now-hiring-workforce-development/
CATEGORIES:Virtual Panel
ATTACH;FMTTYPE=image/png:https://pavecampaign.org/wp-content/uploads/2024/08/Panel-121-Main-Graphic-Template-1.png
END:VEVENT
END:VCALENDAR