BEGIN:VCALENDAR
VERSION:2.0
PRODID:-//Partners for Automated Vehicle Education (PAVE) - ECPv6.15.20//NONSGML v1.0//EN
CALSCALE:GREGORIAN
METHOD:PUBLISH
X-WR-CALNAME:Partners for Automated Vehicle Education (PAVE)
X-ORIGINAL-URL:https://pavecampaign.org
X-WR-CALDESC:Events for Partners for Automated Vehicle Education (PAVE)
REFRESH-INTERVAL;VALUE=DURATION:PT1H
X-Robots-Tag:noindex
X-PUBLISHED-TTL:PT1H
BEGIN:VTIMEZONE
TZID:America/New_York
BEGIN:DAYLIGHT
TZOFFSETFROM:-0500
TZOFFSETTO:-0400
TZNAME:EDT
DTSTART:20230312T070000
END:DAYLIGHT
BEGIN:STANDARD
TZOFFSETFROM:-0400
TZOFFSETTO:-0500
TZNAME:EST
DTSTART:20231105T060000
END:STANDARD
BEGIN:DAYLIGHT
TZOFFSETFROM:-0500
TZOFFSETTO:-0400
TZNAME:EDT
DTSTART:20240310T070000
END:DAYLIGHT
BEGIN:STANDARD
TZOFFSETFROM:-0400
TZOFFSETTO:-0500
TZNAME:EST
DTSTART:20241103T060000
END:STANDARD
BEGIN:DAYLIGHT
TZOFFSETFROM:-0500
TZOFFSETTO:-0400
TZNAME:EDT
DTSTART:20250309T070000
END:DAYLIGHT
BEGIN:STANDARD
TZOFFSETFROM:-0400
TZOFFSETTO:-0500
TZNAME:EST
DTSTART:20251102T060000
END:STANDARD
END:VTIMEZONE
BEGIN:VEVENT
DTSTART;VALUE=DATE:20241021
DTEND;VALUE=DATE:20241024
DTSTAMP:20260424T035505
CREATED:20241010T221605Z
LAST-MODIFIED:20241010T223113Z
UID:16799-1729468800-1729727999@pavecampaign.org
SUMMARY:Reuters Automotive 2024 (PAVE Moderator)
DESCRIPTION:PAVE’s Executive Director Tara Andringa will be moderating a panel at the Reuters Automotive conference in Detroit\, MI. The event will take place October 21-23\, 2024\, at Huntington Place. \nAbout the Event: \n\n\n\nAutomotive USA unites 700 industry leaders from tech\, strategy\, manufacturing\, software\, supply chain\, and product to facilitate cross-departmental collaboration and in-depth discussions that can move the industry forward and help you secure a competitive edge in your automotive strategy. \nTrust us to deliver impactful insights and valuable connections for your business as we work together to transform the next decade of automotive innovation.
URL:https://pavecampaign.org/event/reuters-automotive-2024-pave-moderator/
CATEGORIES:Conference,Panel,Speaking Engagement
ATTACH;FMTTYPE=image/png:https://pavecampaign.org/wp-content/uploads/2024/10/Website-Graphics-169-2.png
END:VEVENT
END:VCALENDAR