BEGIN:VCALENDAR
VERSION:2.0
PRODID:-//Partners for Automated Vehicle Education (PAVE) - ECPv6.15.20//NONSGML v1.0//EN
CALSCALE:GREGORIAN
METHOD:PUBLISH
X-WR-CALNAME:Partners for Automated Vehicle Education (PAVE)
X-ORIGINAL-URL:https://pavecampaign.org
X-WR-CALDESC:Events for Partners for Automated Vehicle Education (PAVE)
REFRESH-INTERVAL;VALUE=DURATION:PT1H
X-Robots-Tag:noindex
X-PUBLISHED-TTL:PT1H
BEGIN:VTIMEZONE
TZID:Europe/Istanbul
BEGIN:STANDARD
TZOFFSETFROM:+0300
TZOFFSETTO:+0300
TZNAME:+03
DTSTART:20240101T000000
END:STANDARD
END:VTIMEZONE
BEGIN:VEVENT
DTSTART;VALUE=DATE:20250211
DTEND;VALUE=DATE:20250214
DTSTAMP:20260424T022741
CREATED:20250129T103146Z
LAST-MODIFIED:20250213T144056Z
UID:19212-1739232000-1739491199@pavecampaign.org
SUMMARY:Road Transport Research (RTR) Conference
DESCRIPTION:The RTR Conference offers a pivotal platform for showcasing the progress of EU-funded projects in the road transport sector. This year\, participants will explore the latest results and anticipated impacts of Horizon 2020 and Horizon Europe projects\, with a focus on shaping the future of road transport in critical areas such as Green Vehicles\, Urban Mobility\, Logistics\, Intelligent Transport Systems\, Safety\, and Automated Road Transport. The event will provide a comprehensive overview of how European research is driving innovation in sustainable\, automated mobility solutions that benefit the environment\, economy\, and society\, paving the way for a safer\, greener\, and more efficient transport ecosystem. \nGuido Di Pasquale\, Managing Director at PAVE Europe will moderate a panel discussion on “Integration and large-scale demonstration of CCAM solutions”.
URL:https://pavecampaign.org/event/road-transport-research-rtr-conference/
LOCATION:Brussels
CATEGORIES:Conference,PAVE Europe Past Events,Speaking Engagement
ATTACH;FMTTYPE=image/png:https://pavecampaign.org/wp-content/uploads/2025/01/RTR-updated.png
END:VEVENT
END:VCALENDAR