BEGIN:VCALENDAR
VERSION:2.0
PRODID:-//Partners for Automated Vehicle Education (PAVE) - ECPv6.15.20//NONSGML v1.0//EN
CALSCALE:GREGORIAN
METHOD:PUBLISH
X-WR-CALNAME:Partners for Automated Vehicle Education (PAVE)
X-ORIGINAL-URL:https://pavecampaign.org
X-WR-CALDESC:Events for Partners for Automated Vehicle Education (PAVE)
REFRESH-INTERVAL;VALUE=DURATION:PT1H
X-Robots-Tag:noindex
X-PUBLISHED-TTL:PT1H
BEGIN:VTIMEZONE
TZID:Europe/Istanbul
BEGIN:STANDARD
TZOFFSETFROM:+0300
TZOFFSETTO:+0300
TZNAME:+03
DTSTART:20240101T000000
END:STANDARD
END:VTIMEZONE
BEGIN:VEVENT
DTSTART;TZID=Europe/Istanbul:20250224T140000
DTEND;TZID=Europe/Istanbul:20250224T150000
DTSTAMP:20260424T022613
CREATED:20250212T101226Z
LAST-MODIFIED:20250313T123637Z
UID:19457-1740405600-1740409200@pavecampaign.org
SUMMARY:Virtual Panel: Navigating the Road Ahead: Switzerland’s Push for Autonomous Mobility
DESCRIPTION:Join us on Monday 24th February for an engaging virtual panel discussion\, “Navigating the Road Ahead: Switzerland’s Push for Autonomous Mobility”\, where industry leaders and policymakers come together to explore the future of autonomous vehicles in Switzerland. The panel will dive deep into the opportunities and challenges ahead. \nKey Discussion Areas \nTechnology and Innovation\nDiscover how Switzerland is positioning itself at the forefront of autonomous mobility. Our experts will unpack recent technological advancements\, including strategic collaborations\, and discuss what these developments mean for the nation’s future. \nRegulatory Frameworks\nGain insights into Switzerland’s evolving regulatory landscape for autonomous vehicles. The panel will analyse how domestic regulations align with EU and global standards\, providing a clearer picture of the policy environment shaping AV deployment. \nPublic Perception and Safety\nBuilding trust is crucial for the widespread adoption of autonomous vehicles. Learn about the initiatives and strategies aimed at enhancing public safety and acceptance\, ensuring that technological progress goes hand in hand with societal readiness. \nSustainability and Urban Mobility\nExplore the role of autonomous mobility in driving sustainability. Panellists will discuss how AVs can contribute to more efficient\, eco-friendly urban transport systems\, supporting broader sustainability and urban mobility goals. \nPanellists Include: \n\nLorenz Stalder\, Lawyer at the Federal Roads Office (FEDRO)\nYong Gessner\, Executive Director EU at WeRide\nChristian Zinckernagel\, Chief Business Development Officer at Holo\nJeroen Beukers\, Head of Innovation at Transports Publics Genevois (TPG)\n\nThis session promises a comprehensive look at Switzerland’s autonomous mobility landscape. Whether you’re a policymaker\, technology enthusiast\, or industry professional\, join us for a forward-thinking conversation on shaping the future of mobility. \nRegister now
URL:https://pavecampaign.org/event/virtual-panel-navigating-the-road-ahead-switzerlands-push-for-autonomous-mobility/
LOCATION:Virtual Panel
CATEGORIES:Panel,Speaking Engagement,Virtual Panel
ATTACH;FMTTYPE=image/png:https://pavecampaign.org/wp-content/uploads/2025/02/EVENTS-4.png
END:VEVENT
END:VCALENDAR