BEGIN:VCALENDAR
VERSION:2.0
PRODID:-//Partners for Automated Vehicle Education (PAVE) - ECPv6.15.20//NONSGML v1.0//EN
CALSCALE:GREGORIAN
METHOD:PUBLISH
X-ORIGINAL-URL:https://pavecampaign.org
X-WR-CALDESC:Events for Partners for Automated Vehicle Education (PAVE)
REFRESH-INTERVAL;VALUE=DURATION:PT1H
X-Robots-Tag:noindex
X-PUBLISHED-TTL:PT1H
BEGIN:VTIMEZONE
TZID:Europe/London
BEGIN:DAYLIGHT
TZOFFSETFROM:+0000
TZOFFSETTO:+0100
TZNAME:BST
DTSTART:20230326T010000
END:DAYLIGHT
BEGIN:STANDARD
TZOFFSETFROM:+0100
TZOFFSETTO:+0000
TZNAME:GMT
DTSTART:20231029T010000
END:STANDARD
BEGIN:DAYLIGHT
TZOFFSETFROM:+0000
TZOFFSETTO:+0100
TZNAME:BST
DTSTART:20240331T010000
END:DAYLIGHT
BEGIN:STANDARD
TZOFFSETFROM:+0100
TZOFFSETTO:+0000
TZNAME:GMT
DTSTART:20241027T010000
END:STANDARD
BEGIN:DAYLIGHT
TZOFFSETFROM:+0000
TZOFFSETTO:+0100
TZNAME:BST
DTSTART:20250330T010000
END:DAYLIGHT
BEGIN:STANDARD
TZOFFSETFROM:+0100
TZOFFSETTO:+0000
TZNAME:GMT
DTSTART:20251026T010000
END:STANDARD
END:VTIMEZONE
BEGIN:VEVENT
DTSTART;TZID=Europe/London:20241128T140000
DTEND;TZID=Europe/London:20241128T150000
DTSTAMP:20260424T010503
CREATED:20241119T024938Z
LAST-MODIFIED:20241119T025445Z
UID:18063-1732802400-1732806000@pavecampaign.org
SUMMARY:PAVE UK Webinar: Putting users at the heart of CAM design
DESCRIPTION:In this webinar\, we will talk about the role of the end user in CAM design and ways to better understand end users. We will also discuss the importance of embedding trust and societal perspectives in the development of CAM technology. \nModerator:\nDavid Wong\, Head of Technology and Innovation\, Society of Motor Manufacturers and Traders (SMMT) \nSpeakers:\nCamilla Fowler\, Director of Safety Assurance\, Oxa\nDr Genovefa Kefalidou\, Lecturer in Human-Computer Interaction\, University of Leicester \nClick here to register
URL:https://pavecampaign.org/event/pave-uk-webinar-putting-user-at-the-heart-of-cam-design/
CATEGORIES:PAVE UK Events
ATTACH;FMTTYPE=image/jpeg:https://pavecampaign.org/wp-content/uploads/2024/11/PAVE-UK-webinar.jpeg
END:VEVENT
END:VCALENDAR