BEGIN:VCALENDAR
VERSION:2.0
PRODID:-//Partners for Automated Vehicle Education (PAVE) - ECPv6.15.20//NONSGML v1.0//EN
CALSCALE:GREGORIAN
METHOD:PUBLISH
X-WR-CALNAME:Partners for Automated Vehicle Education (PAVE)
X-ORIGINAL-URL:https://pavecampaign.org
X-WR-CALDESC:Events for Partners for Automated Vehicle Education (PAVE)
REFRESH-INTERVAL;VALUE=DURATION:PT1H
X-Robots-Tag:noindex
X-PUBLISHED-TTL:PT1H
BEGIN:VTIMEZONE
TZID:Europe/Istanbul
BEGIN:STANDARD
TZOFFSETFROM:+0300
TZOFFSETTO:+0300
TZNAME:+03
DTSTART:20230101T000000
END:STANDARD
END:VTIMEZONE
BEGIN:VTIMEZONE
TZID:America/New_York
BEGIN:DAYLIGHT
TZOFFSETFROM:-0500
TZOFFSETTO:-0400
TZNAME:EDT
DTSTART:20230312T070000
END:DAYLIGHT
BEGIN:STANDARD
TZOFFSETFROM:-0400
TZOFFSETTO:-0500
TZNAME:EST
DTSTART:20231105T060000
END:STANDARD
BEGIN:DAYLIGHT
TZOFFSETFROM:-0500
TZOFFSETTO:-0400
TZNAME:EDT
DTSTART:20240310T070000
END:DAYLIGHT
BEGIN:STANDARD
TZOFFSETFROM:-0400
TZOFFSETTO:-0500
TZNAME:EST
DTSTART:20241103T060000
END:STANDARD
BEGIN:DAYLIGHT
TZOFFSETFROM:-0500
TZOFFSETTO:-0400
TZNAME:EDT
DTSTART:20250309T070000
END:DAYLIGHT
BEGIN:STANDARD
TZOFFSETFROM:-0400
TZOFFSETTO:-0500
TZNAME:EST
DTSTART:20251102T060000
END:STANDARD
END:VTIMEZONE
BEGIN:VTIMEZONE
TZID:Europe/Vienna
BEGIN:DAYLIGHT
TZOFFSETFROM:+0100
TZOFFSETTO:+0200
TZNAME:CEST
DTSTART:20230326T010000
END:DAYLIGHT
BEGIN:STANDARD
TZOFFSETFROM:+0200
TZOFFSETTO:+0100
TZNAME:CET
DTSTART:20231029T010000
END:STANDARD
BEGIN:DAYLIGHT
TZOFFSETFROM:+0100
TZOFFSETTO:+0200
TZNAME:CEST
DTSTART:20240331T010000
END:DAYLIGHT
BEGIN:STANDARD
TZOFFSETFROM:+0200
TZOFFSETTO:+0100
TZNAME:CET
DTSTART:20241027T010000
END:STANDARD
BEGIN:DAYLIGHT
TZOFFSETFROM:+0100
TZOFFSETTO:+0200
TZNAME:CEST
DTSTART:20250330T010000
END:DAYLIGHT
BEGIN:STANDARD
TZOFFSETFROM:+0200
TZOFFSETTO:+0100
TZNAME:CET
DTSTART:20251026T010000
END:STANDARD
END:VTIMEZONE
BEGIN:VEVENT
DTSTART;TZID=Europe/Istanbul:20241107T150000
DTEND;TZID=Europe/Istanbul:20241107T160000
DTSTAMP:20260424T022623
CREATED:20241028T095531Z
LAST-MODIFIED:20241112T171106Z
UID:17022-1730991600-1730995200@pavecampaign.org
SUMMARY:Virtual Panel: Next Steps for Improving Road Safety Through Enabling Technology and Autonomy
DESCRIPTION:Mobileye and PAVE Europe are proud to collaborate on a webinar as part of a Road Safety Campaign. \nAs Automated Vehicles (AVs) continue to gain acceptance as a tool for reducing traffic accidents and improving safety on roads\, what are the necessary steps to advance these efforts on a global scale? Join us on Thursday 7th November at 15:00 CET for an engaging discussion with key experts to explore the current state of road safety\, the role of AV technology\, and the regulatory landscape that is required to support safer roads. \nLukas Neckermann\, Board Observer at PAVE Europe\, will moderate a panel with Justin Hyde\, Mobileye; Biagio Ciuffo\, European Commission; Richard Damm\, KBA & UNECE; Dr. Maria Alonso\, World Economic Forum; and Dr. Ian Greenwood\, Independent Campaigner to stop road death. Do not miss this opportunity to gain valuable insights and contribute to the conversation on improving road safety. \nRegister now
URL:https://pavecampaign.org/event/virtual-panel-next-steps-for-improving-road-safety-through-enabling-technology-and-autonomy/
LOCATION:Virtual Panel
CATEGORIES:Speaking Engagement,Virtual Panel
ATTACH;FMTTYPE=image/png:https://pavecampaign.org/wp-content/uploads/2024/10/Road-safety-webinar.png
END:VEVENT
BEGIN:VEVENT
DTSTART;VALUE=DATE:20241021
DTEND;VALUE=DATE:20241024
DTSTAMP:20260424T022623
CREATED:20241010T221605Z
LAST-MODIFIED:20241010T223113Z
UID:16799-1729468800-1729727999@pavecampaign.org
SUMMARY:Reuters Automotive 2024 (PAVE Moderator)
DESCRIPTION:PAVE’s Executive Director Tara Andringa will be moderating a panel at the Reuters Automotive conference in Detroit\, MI. The event will take place October 21-23\, 2024\, at Huntington Place. \nAbout the Event: \n\n\n\nAutomotive USA unites 700 industry leaders from tech\, strategy\, manufacturing\, software\, supply chain\, and product to facilitate cross-departmental collaboration and in-depth discussions that can move the industry forward and help you secure a competitive edge in your automotive strategy. \nTrust us to deliver impactful insights and valuable connections for your business as we work together to transform the next decade of automotive innovation.
URL:https://pavecampaign.org/event/reuters-automotive-2024-pave-moderator/
CATEGORIES:Conference,Panel,Speaking Engagement
ATTACH;FMTTYPE=image/png:https://pavecampaign.org/wp-content/uploads/2024/10/Website-Graphics-169-2.png
END:VEVENT
BEGIN:VEVENT
DTSTART;TZID=America/New_York:20241016T140000
DTEND;TZID=America/New_York:20241016T143000
DTSTAMP:20260424T022623
CREATED:20240925T230714Z
LAST-MODIFIED:20241002T213039Z
UID:16327-1729087200-1729089000@pavecampaign.org
SUMMARY:Spotlight on Pedestrian Safety: Can Thermal Cameras Improve ADAS?
DESCRIPTION:According to a report by the Governor’s Highway Safety Association\, over 7\,300 pedestrians were killed by drivers last year – a 14% increase from pre-pandemic levels. At night\, traffic fatalities increase threefold. Automatic Emergency Braking (AEB) is one developing area of ADAS that may be able to help mitigate these trends. However\, current systems still struggle in low-visibility conditions. \nTeledyne FLIR is taking a new approach to AEB by adding thermal imaging. With NHTSA’s new FMVSS No. 127 rule set to mandate AEB and pedestrian AEB (PAEB) systems in vehicles by 2029\, research firm VSI and Teledyne FLIR are exploring advanced thermal nighttime testing protocols\, which they started testing at the American Center for Mobility in September. \nJoin us during Pedestrian Safety Month on Wednesday\, October 16th\, for a virtual panel with Mike Walters of Teledyne FLIR and Phil Magney of VSI Labs. They’ll share insights from their recent testing\, explore the current state of AEB\, and discuss how thermal cameras could improve road safety for everyone. We hope to see you there! \nClick here to register!
URL:https://pavecampaign.org/event/spotlight-on-pedestrian-safety-can-thermal-cameras-improve-adas/
LOCATION:Virtual Panel
CATEGORIES:Virtual Panel
ATTACH;FMTTYPE=image/png:https://pavecampaign.org/wp-content/uploads/2024/09/1-4.png
END:VEVENT
BEGIN:VEVENT
DTSTART;VALUE=DATE:20241015
DTEND;VALUE=DATE:20241019
DTSTAMP:20260424T022623
CREATED:20240819T180005Z
LAST-MODIFIED:20241028T095740Z
UID:15075-1728950400-1729295999@pavecampaign.org
SUMMARY:International Road Federation (IRF) World Congress
DESCRIPTION:The International Road Federation World Congress represents an opportunity to celebrate the road and mobility sectors as enablers of growth and development. The event is hosted in Turkey on the 15th – 18th October. \nPAVE Europe are hosting a session on “Paving the Way: The Interplay of Technology\, Infrastructure\, and Society in AV Deployment”. \nThe session will explore the complexities of deploying autonomous vehicles (AVs) and the importance of public understanding and the societal impact of autonomous technology. Speakers will share their experiences in navigating regulatory environments\, fostering public acceptance\, modifying urban infrastructures to support AVs\, and more.
URL:https://pavecampaign.org/event/international-road-federation-irf-world-congress/
LOCATION:Instanbul\, Turkey
CATEGORIES:Conference,PAVE Europe Past Events,Speaking Engagement
ATTACH;FMTTYPE=image/jpeg:https://pavecampaign.org/wp-content/uploads/2024/08/1720407281696.jpg
END:VEVENT
BEGIN:VEVENT
DTSTART;VALUE=DATE:20241010
DTEND;VALUE=DATE:20241011
DTSTAMP:20260424T022623
CREATED:20240919T215659Z
LAST-MODIFIED:20250213T143905Z
UID:16727-1728518400-1728604799@pavecampaign.org
SUMMARY:AutoSens Europe 2024
DESCRIPTION:From 8-10 October 2024\, AutoSens will gather at the Palau de Congressos in Barcelona to shape the future of ADAS and AV. Over 60 expert speakers\, engaging panels\, technical case studies\, will explore  key themes along with cutting-edge demos from sensor and computer vision leaders. \nPAVE Europe will be represented by Alex Gerodimos during a session on “How do ADAS & Autonomy Impact Consumers Beyond Safety?”. \n 
URL:https://pavecampaign.org/event/auto-sens-europe/
LOCATION:Barcelona
CATEGORIES:Conference,PAVE Europe Past Events,Speaking Engagement
ATTACH;FMTTYPE=image/png:https://pavecampaign.org/wp-content/uploads/2024/09/AutoSens24.png
END:VEVENT
BEGIN:VEVENT
DTSTART;VALUE=DATE:20241009
DTEND;VALUE=DATE:20241012
DTSTAMP:20260424T022623
CREATED:20240818T113925Z
LAST-MODIFIED:20241015T151452Z
UID:15495-1728432000-1728691199@pavecampaign.org
SUMMARY:2024 Urbanism Next Europe Conference
DESCRIPTION:The 2024 Urbanism Next Europe Conference in Amsterdam on October 9-11\, 2024! \nThe event explore the impacts emerging technologies are having and will continue to have on cities\, regions and communities. The conference will focus on the Urbanism Next Framework and the major themes of understanding the impacts of shared and on-demand mobility technologies\, the continued growth of e-commerce and urban delivery\, and the anticipated deployment of autonomous vehicles.
URL:https://pavecampaign.org/event/2024-urbanism-next-europe-conference/
LOCATION:Amsterdam\, Netherlands
CATEGORIES:Conference,PAVE Europe Past Events,Speaking Engagement
ATTACH;FMTTYPE=image/jpeg:https://pavecampaign.org/wp-content/uploads/2024/08/6520636d3221be64cce63ba5_Amsterdam-p-1080.jpg
END:VEVENT
BEGIN:VEVENT
DTSTART;VALUE=DATE:20241009
DTEND;VALUE=DATE:20241010
DTSTAMP:20260424T022623
CREATED:20241001T001908Z
LAST-MODIFIED:20241001T002251Z
UID:16758-1728432000-1728518399@pavecampaign.org
SUMMARY:2024 PAVE Annual Meeting
DESCRIPTION:PAVE’s Annual Meeting will take place at K&L Gates in Washington D.C.\, on Wednesday\, October 9th. \nDate: Wednesday\, October 9\, 2024 \nLocation: K&L Gates Office\, 1601 K St NW # 1\, Washington\, DC \nSchedule:  \n1:00 – 2:30 pm: Board Meeting\n2:30 – 3:00 pm: All Member Meeting Check-In\n3:00 – 5:00 pm: All-Member Meeting\n5:00 – 7:00 pm: Evening Networking Reception \nNote: This is a closed event for PAVE Members and Advisory Councils.
URL:https://pavecampaign.org/event/2024-pave-annual-meeting/
CATEGORIES:PAVE Hosted Event
ATTACH;FMTTYPE=image/png:https://pavecampaign.org/wp-content/uploads/2024/09/Annual-Meeting-Background-Slide.png
END:VEVENT
BEGIN:VEVENT
DTSTART;VALUE=DATE:20241005
DTEND;VALUE=DATE:20241007
DTSTAMP:20260424T022623
CREATED:20240912T215038Z
LAST-MODIFIED:20240930T205252Z
UID:16128-1728086400-1728259199@pavecampaign.org
SUMMARY:2024 Texas State Fair (PAVE Exhibit)
DESCRIPTION:Partners for Automated Vehicle Education (PAVE) and autonomous trucking companies Aurora\, Plus\, and Torc are headed to the Texas State Fair Oct. 5-6 for a first-of-its-kind Autonomous Trucking Weekend. The four organizations\, along with the Texas Department of Transportation\, will host a 2\,500-square-foot exhibit where visitors of all ages can see autonomous trucks firsthand\, engage in hands-on displays\, talk to engineers and industry experts\, and more.  \nAttendees will learn about the safety features\, comprehensive testing process\, and capabilities of the vehicles\, including “ask the expert” sessions during which visitors can pose questions to leaders of the organizations. Live programming will be scheduled throughout the day\, including speakers from the AV companies and TxDOT. The exhibit will also provide information on the new jobs that the AV industry is bringing to Texas communities\, as shared by the new US AV Jobs Coalition.
URL:https://pavecampaign.org/event/2024-texas-state-fair-pave-exhibit/
CATEGORIES:Public Demonstration
ATTACH;FMTTYPE=image/png:https://pavecampaign.org/wp-content/uploads/2024/09/Website-Graphics-169.png
END:VEVENT
BEGIN:VEVENT
DTSTART;TZID=Europe/Istanbul:20241002T140000
DTEND;TZID=Europe/Istanbul:20241002T150000
DTSTAMP:20260424T022623
CREATED:20240920T135459Z
LAST-MODIFIED:20241015T151559Z
UID:16242-1727877600-1727881200@pavecampaign.org
SUMMARY:Virtual Panel: Building Trust: the Road to Public Acceptance of Autonomous Vehicles
DESCRIPTION:Autonomous vehicles (AVs) are transforming the future of mobility\, but public trust\, understanding and acceptance remains a critical challenge in their widespread adoption. As AV technology rapidly evolves\, there are questions of how the public perceives safety\, reliability\, and the societal impacts of these innovations. How can we effectively bridge the gap between technological advancement and public trust? What strategies can be employed to address concerns and educate diverse communities about the benefits and limitations of AVs? \nJoin us on Wednesday 2nd October as we explore the intersection of AV technology\, public perception\, and trust-building. Our panel of industry experts will discuss real-world challenges\, engagement with different demographic groups\, and how collaboration between industry leaders and research institutions can shape the future of autonomous mobility in Europe. \nOur panel will include Ingrid Skogsmo\, Swedish National Road and Transport Research Institute (VTI); Ana Roios\, Waymo; and Ricco Kämpfer\, P3. Together\, they’ll share their experiences and insights on building public trust in AV technology\, balancing innovation with safety\, and shaping a positive narrative around autonomous vehicles. \nThis webinar is being held in anticipation of the upcoming release of PAVE Europe’s first white paper on Understanding\, Trust\, and Acceptance of AVs. \nDon’t miss this opportunity to gain expert insights and be part of the conversation shaping the future of autonomous mobility! \nRegister now
URL:https://pavecampaign.org/event/virtual-panel-building-trust-the-road-to-public-acceptance-of-autonomous-vehicles/
LOCATION:Virtual Panel
CATEGORIES:Speaking Engagement,Virtual Panel
ATTACH;FMTTYPE=image/png:https://pavecampaign.org/wp-content/uploads/2024/09/Final-Main-Graphic-Europe_Panel-19.png
END:VEVENT
BEGIN:VEVENT
DTSTART;VALUE=DATE:20240924
DTEND;VALUE=DATE:20240926
DTSTAMP:20260424T022623
CREATED:20240701T213340Z
LAST-MODIFIED:20240716T180906Z
UID:13523-1727136000-1727308799@pavecampaign.org
SUMMARY:MOVE America 2024 (PAVE Speaker)
DESCRIPTION:PAVE’s Executive Director Tara Andringa will be speaking at MOVE America 2024. The event will take place September 24-25\, 2024\, in Austin\, TX. \nAbout the Event: \n\n\n\nMOVE America is the #1 tech mobility event in the Americas\, bringing together the people and companies redefining mobility. \nMOVE America connects the entire mobility ecosystem\, focused on tech\, business models and sustainable futures. Leaders and visionaries from across the mobility value chain gather at MOVE for an unparalleled opportunity to learn\, innovate\, partner and do business. We host executives from world leading CPOs\, OEMs\, fleet operators\, governments and cities\, battery manufacturers\, transport operators\, investors and utilities.
URL:https://pavecampaign.org/event/move-america-2024-pave-speaker/
CATEGORIES:Conference,Speaking Engagement
ATTACH;FMTTYPE=image/png:https://pavecampaign.org/wp-content/uploads/2024/06/6-2.png
END:VEVENT
BEGIN:VEVENT
DTSTART;VALUE=DATE:20240923
DTEND;VALUE=DATE:20240925
DTSTAMP:20260424T022623
CREATED:20240820T174328Z
LAST-MODIFIED:20240930T214954Z
UID:15068-1727049600-1727222399@pavecampaign.org
SUMMARY:The Autonomous
DESCRIPTION:The Autonomous will explore the crucial topic of safety for autonomous mobility and systems under the theme “Cutting No Corners: Bridging the gap in AV Safety”. The event will take place between the 23rd – 24th September in Vienna. \nPAVE Europe will be attending this event.
URL:https://pavecampaign.org/event/the-autonomous/
LOCATION:Vienna\, Hofburg Imperial Palace\, Vienna\, Austria
CATEGORIES:Conference,PAVE Europe Past Events
ATTACH;FMTTYPE=image/png:https://pavecampaign.org/wp-content/uploads/2024/08/Autonomous_Vienna.png
END:VEVENT
BEGIN:VEVENT
DTSTART;VALUE=DATE:20240917
DTEND;VALUE=DATE:20240920
DTSTAMP:20260424T022623
CREATED:20240701T213141Z
LAST-MODIFIED:20240717T134027Z
UID:13521-1726531200-1726790399@pavecampaign.org
SUMMARY:Women in Mobility Symposium (PAVE Co-Chair) – at the IEEE International Conference on Smart Mobility
DESCRIPTION:The 2nd edition of Women in Mobility (WiM) Symposium\, the first smart mobility event with all women speakers\, provides a forum for knowledge sharing and connection and sheds light on the increasing and impactful roles of women in a male-dominated mobility industry. \nThe symposium features inspiring speeches and insightful panel discussions led by prominent female leaders from across the globe\, offering valuable perspectives and driving collaboration in the mobility industry. \nCo-Chairs: \n\nAllison Cooperman\, Director\, Canadian Technical Center (CTC) Operations\, General Motors\, Canada\nTara Andringa\, Executive Director\, Partners for Automated Vehicle Education (PAVE)\, USA
URL:https://pavecampaign.org/event/women-in-mobility-symposium-pave-co-chair-at-the-ieee-international-conference-on-smart-mobility/
CATEGORIES:Conference,Speaking Engagement
ATTACH;FMTTYPE=image/png:https://pavecampaign.org/wp-content/uploads/2024/06/4-2.png
END:VEVENT
BEGIN:VEVENT
DTSTART;VALUE=DATE:20240916
DTEND;VALUE=DATE:20240921
DTSTAMP:20260424T022623
CREATED:20240821T092818Z
LAST-MODIFIED:20240920T142134Z
UID:13519-1726444800-1726876799@pavecampaign.org
SUMMARY:ITS World Congress (PAVE Europe Speaker)
DESCRIPTION:ITS World Congress is the leading event in smart mobility and digitalisation of transport. The next ITS World Congress will take place in Dubai between the 16th – 20th September 2024 with the theme: “Mobility Driven by ITS”. \nPAVE Europe will host the Strategic Future Session\, “Navigating the Future: Unblocking the Road for Autonomous Vehicles” on the 16th September 2024 between 11:00 – 12:30 (GST).
URL:https://pavecampaign.org/event/its-world-congress-pave-europe-speaker/
CATEGORIES:Conference,PAVE Europe Past Events,Speaking Engagement
ATTACH;FMTTYPE=image/png:https://pavecampaign.org/wp-content/uploads/2024/06/5-2.png
END:VEVENT
BEGIN:VEVENT
DTSTART;TZID=Europe/Istanbul:20240912T143000
DTEND;TZID=Europe/Istanbul:20240912T153000
DTSTAMP:20260424T022623
CREATED:20240830T092305Z
LAST-MODIFIED:20240930T214937Z
UID:15760-1726151400-1726155000@pavecampaign.org
SUMMARY:Virtual Panel: Challenges and Solutions for Smart\, Connected\, Automated New Mobility Services in Urban Contexts
DESCRIPTION:As cities in Europe race to adopt smart\, connected mobility services\, the path to seamless integration presents challenges and opportunities. How can start-ups\, scale-ups\, and cities collaborate more effectively to overcome these barriers? What solutions are key to ensuring the successful deployment of CCAM technologies? \nJoin us on Thursday 12th September as we deep dive into the barriers\, challenges\, and solutions that can enhance collaboration between start-ups\, scale-ups\, and cities in the deployment of smart\, connected mobility services. Our panel of experts will explore how innovation is being driven within city frameworks\, scaling different solutions across various regions\, and the complexities of integrating autonomous vehicle technology into urban environments. \nPAVE Europe will moderate a panel with Peter Staelens\, Head of Mobility at Eurocities\, Nathalie Teer\, Strategic Affairs Lead at Easymile\, Janneke Brouwer\, Practice Lead Co-Create\, NMS\, and Edwin Mermans\, Senior Advisor\, International Affairs Noord-Brabant. Don’t miss this opportunity to gain valuable insights\, and be part of the conversation that shapes the future of smart\, connected cities across Europe. \nRegister now
URL:https://pavecampaign.org/event/virtual-panel-challenges-and-solutions-for-smart-connected-automated-new-mobility-services-in-urban-contexts/
LOCATION:Virtual Panel
CATEGORIES:Panel,Speaking Engagement,Virtual Panel
ATTACH;FMTTYPE=image/png:https://pavecampaign.org/wp-content/uploads/2024/08/Europe-panel-Main-Graphic.png
END:VEVENT
BEGIN:VEVENT
DTSTART;TZID=America/New_York:20240911T140000
DTEND;TZID=America/New_York:20240911T143000
DTSTAMP:20260424T022623
CREATED:20240815T165731Z
LAST-MODIFIED:20240815T171026Z
UID:15031-1726063200-1726065000@pavecampaign.org
SUMMARY:PAVE Virtual Panel - "Now Hiring: Workforce Development in the Autonomous Vehicle Industry"
DESCRIPTION:As the autonomous vehicle (AV) industry advances and self-driving cars become a part of our reality\, questions arise regarding what this will mean for jobs and the economy. A new coalition — USAVjobs.com – seeks to compile resources\, job training programs\, government initiatives\, etc.\, to answer questions about AVs and the workforce. \nJoin us on Wednesday\, September 11th\, for a virtual panel featuring experts May Mobility\, Aurora\, and DriveOhio\, as we examine the state of workforce development in AVs. Panelists will discuss existing job creation programs\, upskilling and reskilling initiatives\, and future opportunities for economic growth – across skill levels\, areas of expertise\, and geographic locations. Speakers include Nicole DuPuis\, Policy and Advocacy Lead at May Mobility; Rich Granger\, Managing Director of Workforce and Economic Development at DriveOhio; and Matt Blackburn\, Senior Manager of Government Relations at Aurora. Register here!
URL:https://pavecampaign.org/event/pave-virtual-panel-now-hiring-workforce-development/
CATEGORIES:Virtual Panel
ATTACH;FMTTYPE=image/png:https://pavecampaign.org/wp-content/uploads/2024/08/Panel-121-Main-Graphic-Template-1.png
END:VEVENT
BEGIN:VEVENT
DTSTART;VALUE=DATE:20240907
DTEND;VALUE=DATE:20240912
DTSTAMP:20260424T022623
CREATED:20240812T162808Z
LAST-MODIFIED:20240812T162808Z
UID:14742-1725667200-1726099199@pavecampaign.org
SUMMARY:GHSA Annual Meeting 2024 (PAVE Speaker)
DESCRIPTION:PAVE’s Executive Director Tara Andringa will be speaking at the 2024 GHSA Annual Meeting. The event will take place September 7-11\, 2024\, in Indianapolis\, IN. \nSession Topic: Safer Cars\, Safer Communities: The SHSO Role in Promoting Vehicle Safety Technology \nSession Description: The Infrastructure Investment and Jobs Act gives State Highway Safety Offices (SHSOs) the option to use Section 402 funding to educate drivers about vehicle safety technology in support of the safe vehicle component of the Safe System approach. A panel of communications experts representing SHSOs\, the automotive industry and research groups will discuss the current state of vehicle technology\, what’s on the horizon and how SHSOs can help drivers understand what their vehicle’s safety features are – and aren’t – capable of \nSpeakers: \n\nTara Andringa\, Executive Director\, Partners for Automated Vehicle Education\nJennifer Morrison\, Head of Vehicle Safety\, Mazda North America Operations\nRuss Rader\, Senior Vice President\, Communications\, Insurance Institute for Highway Safety\nTim Weisberg\, Deputy Director\, Marketing and Public Affairs\, California Office of Traffic Safety\n\nAdditional details are available on the event website.
URL:https://pavecampaign.org/event/ghsa-annual-meeting-2024/
CATEGORIES:Conference,Panel,Speaking Engagement
ATTACH;FMTTYPE=image/webp:https://pavecampaign.org/wp-content/uploads/2024/08/AM24_WebGraphic-490.webp
END:VEVENT
BEGIN:VEVENT
DTSTART;VALUE=DATE:20240805
DTEND;VALUE=DATE:20240809
DTSTAMP:20260424T022623
CREATED:20240701T212608Z
LAST-MODIFIED:20240717T154201Z
UID:13517-1722816000-1723161599@pavecampaign.org
SUMMARY:2024 CAR Management Briefing Seminars (PAVE Speaker)
DESCRIPTION:PAVE’s Executive Director Tara Andringa will be speaking at the CAR Management Briefing Seminars this August. The event will take place August 5-8\, 2024\, in Traverse City\, MI. Tara will be speaking on the topic of last mile delivery in AV investments. Session details below: \nIs the Last Mile the Holy Grail of AV Investment? Separating Hype from Reality\nAugust 6\, 2024\, 1:45 – 2:30 PM\nFor years\, the promise of autonomous vehicles (AVs) revolutionizing the “Last Mile”-the final stage of delivery directly to customers-has ignited the investment scene. Headlines scream of autonomous fleets delivering pizzas\, groceries\, and parcels\, painting a picture of instant profits and transportation utopia. But is this booming optimism grounded in reality\, or are we chasing a glittering mirage? This session strips away the hype to uncover the true potential and challenges of AV technology in the Last Mile. We’ll explore the diverse applications and critically examine the technical\, regulatory\, and economic hurdles that stand in the way of widespread adoption. Join us as we separate inflated expectations from achievable goals and timelines\, equipping you with the knowledge to navigate the complexities of this rapidly evolving landscape. Whether you’re an investor seeking clarity\, an industry professional grappling with implementation\, or simply curious about the future of transportation\, this session is your chance to separate the hype from reality and make informed decisions about Last Mile and technology.
URL:https://pavecampaign.org/event/2024-car-management-briefing-seminars-pave-speaker/
CATEGORIES:Conference,Speaking Engagement
ATTACH;FMTTYPE=image/png:https://pavecampaign.org/wp-content/uploads/2024/06/3-2.png
END:VEVENT
BEGIN:VEVENT
DTSTART;VALUE=DATE:20240729
DTEND;VALUE=DATE:20240802
DTSTAMP:20260424T022623
CREATED:20240701T212446Z
LAST-MODIFIED:20240717T161920Z
UID:13515-1722211200-1722556799@pavecampaign.org
SUMMARY:2024 TRB Automated Road Transportation Symposium (PAVE Panelist)
DESCRIPTION:PAVE will be speaking on two panels at the 2024 TRB ARTS Conference. PAVE Europe will also be speaking at the event. The event will take place July 29 – August 1\, 2024 in San Diego\, CA.
URL:https://pavecampaign.org/event/2024-trb-automated-road-transportation-symposium-pave-panelist/
CATEGORIES:Conference,Panel,Speaking Engagement
ATTACH;FMTTYPE=image/png:https://pavecampaign.org/wp-content/uploads/2024/06/2-2.png
END:VEVENT
END:VCALENDAR